BEGIN:VCALENDAR
VERSION:2.0
PRODID:-//www.og-strinz.de - ECPv6.15.20//NONSGML v1.0//EN
CALSCALE:GREGORIAN
METHOD:PUBLISH
X-WR-CALNAME:www.og-strinz.de
X-ORIGINAL-URL:https://og-strinz.de
X-WR-CALDESC:Veranstaltungen für www.og-strinz.de
REFRESH-INTERVAL;VALUE=DURATION:PT1H
X-Robots-Tag:noindex
X-PUBLISHED-TTL:PT1H
BEGIN:VTIMEZONE
TZID:UTC
BEGIN:STANDARD
TZOFFSETFROM:+0000
TZOFFSETTO:+0000
TZNAME:UTC
DTSTART:20250101T000000
END:STANDARD
END:VTIMEZONE
BEGIN:VEVENT
DTSTART;TZID=UTC:20260911T200000
DTEND;TZID=UTC:20260911T200000
DTSTAMP:20260419T175717
CREATED:20241127T144504Z
LAST-MODIFIED:20251124T134422Z
UID:1513-1789156800-1789156800@og-strinz.de
SUMMARY:Sammelbestellung 2026 (Vereinsabend Infoveranstaltung)
DESCRIPTION:
URL:https://og-strinz.de/event/vereinsabend-infoveranstaltung-zur-sammelbestellung
LOCATION:Kelterhaus\, Wiesenweg 1\, Strinz-Margarethä\, Hessen\, 65329\, Deutschland
CATEGORIES:öffentliche Veranstaltung
END:VEVENT
END:VCALENDAR