BEGIN:VCALENDAR
VERSION:2.0
PRODID:-//www.og-strinz.de - ECPv6.15.20//NONSGML v1.0//EN
CALSCALE:GREGORIAN
METHOD:PUBLISH
X-WR-CALNAME:www.og-strinz.de
X-ORIGINAL-URL:https://og-strinz.de
X-WR-CALDESC:Veranstaltungen für www.og-strinz.de
REFRESH-INTERVAL;VALUE=DURATION:PT1H
X-Robots-Tag:noindex
X-PUBLISHED-TTL:PT1H
BEGIN:VTIMEZONE
TZID:UTC
BEGIN:STANDARD
TZOFFSETFROM:+0000
TZOFFSETTO:+0000
TZNAME:UTC
DTSTART:20250101T000000
END:STANDARD
END:VTIMEZONE
BEGIN:VEVENT
DTSTART;VALUE=DATE:20260925
DTEND;VALUE=DATE:20261025
DTSTAMP:20260419T202506
CREATED:20251021T095350Z
LAST-MODIFIED:20260307T172023Z
UID:1984-1790294400-1792886399@og-strinz.de
SUMMARY:Keltersaison 2026
DESCRIPTION:
URL:https://og-strinz.de/event/keltersaison-2026
LOCATION:Kelterhaus\, Wiesenweg 1\, Strinz-Margarethä\, Hessen\, 65329\, Deutschland
CATEGORIES:Keltern
END:VEVENT
BEGIN:VEVENT
DTSTART;TZID=UTC:20261024T090000
DTEND;TZID=UTC:20261025T170000
DTSTAMP:20260419T202506
CREATED:20240807T122844Z
LAST-MODIFIED:20251124T133810Z
UID:1187-1792832400-1792947600@og-strinz.de
SUMMARY:Zertifizierter Landschaftsobstbauer 2026 / Modul 5 "Coaching"
DESCRIPTION:
URL:https://og-strinz.de/event/zertifizierter-landschaftsobstbauer-2025-modul-5-coaching
LOCATION:wird noch bekannt gegeben
CATEGORIES:Sonstiges
END:VEVENT
END:VCALENDAR