BEGIN:VCALENDAR
VERSION:2.0
PRODID:-//www.og-strinz.de - ECPv6.15.20//NONSGML v1.0//EN
CALSCALE:GREGORIAN
METHOD:PUBLISH
X-ORIGINAL-URL:https://og-strinz.de
X-WR-CALDESC:Veranstaltungen für www.og-strinz.de
REFRESH-INTERVAL;VALUE=DURATION:PT1H
X-Robots-Tag:noindex
X-PUBLISHED-TTL:PT1H
BEGIN:VTIMEZONE
TZID:UTC
BEGIN:STANDARD
TZOFFSETFROM:+0000
TZOFFSETTO:+0000
TZNAME:UTC
DTSTART:20250101T000000
END:STANDARD
END:VTIMEZONE
BEGIN:VEVENT
DTSTART;VALUE=DATE:20261114
DTEND;VALUE=DATE:20261115
DTSTAMP:20260419T211332
CREATED:20260307T171931Z
LAST-MODIFIED:20260307T182802Z
UID:1988-1794614400-1794700799@og-strinz.de
SUMMARY:Sammelbestellung 2026 (Abgabeschluss)
DESCRIPTION:
URL:https://og-strinz.de/event/sammelbestellung-2026-abgabeschluss
LOCATION:Kelterhaus\, Wiesenweg 1\, Strinz-Margarethä\, Hessen\, 65329\, Deutschland
CATEGORIES:öffentliche Veranstaltung
END:VEVENT
END:VCALENDAR