BEGIN:VCALENDAR
VERSION:2.0
PRODID:-//www.og-strinz.de - ECPv6.15.20//NONSGML v1.0//EN
CALSCALE:GREGORIAN
METHOD:PUBLISH
X-ORIGINAL-URL:https://og-strinz.de
X-WR-CALDESC:Veranstaltungen für www.og-strinz.de
REFRESH-INTERVAL;VALUE=DURATION:PT1H
X-Robots-Tag:noindex
X-PUBLISHED-TTL:PT1H
BEGIN:VTIMEZONE
TZID:UTC
BEGIN:STANDARD
TZOFFSETFROM:+0000
TZOFFSETTO:+0000
TZNAME:UTC
DTSTART:20250101T000000
END:STANDARD
END:VTIMEZONE
BEGIN:VEVENT
DTSTART;TZID=UTC:20261121T090000
DTEND;TZID=UTC:20261121T170000
DTSTAMP:20260419T211429
CREATED:20240807T122934Z
LAST-MODIFIED:20251124T133853Z
UID:1189-1795251600-1795280400@og-strinz.de
SUMMARY:Zertifizierter Landschaftsobstbauer 2026 / Prüfungstag
DESCRIPTION:
URL:https://og-strinz.de/event/zertifizierter-landschaftsobstbauer-2025-pruefungstag
LOCATION:wird noch bekannt gegeben
CATEGORIES:Sonstiges
ORGANIZER;CN="LPV":MAILTO:info@lpv-rtk.de
END:VEVENT
END:VCALENDAR