BEGIN:VCALENDAR
VERSION:2.0
PRODID:-//www.og-strinz.de - ECPv6.15.20//NONSGML v1.0//EN
CALSCALE:GREGORIAN
METHOD:PUBLISH
X-WR-CALNAME:www.og-strinz.de
X-ORIGINAL-URL:https://og-strinz.de
X-WR-CALDESC:Veranstaltungen für www.og-strinz.de
REFRESH-INTERVAL;VALUE=DURATION:PT1H
X-Robots-Tag:noindex
X-PUBLISHED-TTL:PT1H
BEGIN:VTIMEZONE
TZID:UTC
BEGIN:STANDARD
TZOFFSETFROM:+0000
TZOFFSETTO:+0000
TZNAME:UTC
DTSTART:20250101T000000
END:STANDARD
END:VTIMEZONE
BEGIN:VEVENT
DTSTART;TZID=UTC:20261211T200000
DTEND;TZID=UTC:20261211T230000
DTSTAMP:20260419T223616
CREATED:20260307T172049Z
LAST-MODIFIED:20260307T172049Z
UID:1978-1797019200-1797030000@og-strinz.de
SUMMARY:Nikolaus-Schoppe 2026
DESCRIPTION:
URL:https://og-strinz.de/event/nikolaus-schoppe-2026
LOCATION:Kelterhaus\, Wiesenweg 1\, Strinz-Margarethä\, Hessen\, 65329\, Deutschland
CATEGORIES:Vereinsabend
END:VEVENT
END:VCALENDAR